BEGIN:VCALENDAR
VERSION:2.0
PRODID:-//Eindhoven History Lab - ECPv6.0.4//NONSGML v1.0//EN
CALSCALE:GREGORIAN
METHOD:PUBLISH
X-ORIGINAL-URL:https://www.eindhovenhistorylab.nl
X-WR-CALDESC:Events for Eindhoven History Lab
REFRESH-INTERVAL;VALUE=DURATION:PT1H
X-Robots-Tag:noindex
X-PUBLISHED-TTL:PT1H
BEGIN:VTIMEZONE
TZID:Europe/Amsterdam
BEGIN:DAYLIGHT
TZOFFSETFROM:+0100
TZOFFSETTO:+0200
TZNAME:CEST
DTSTART:20230326T010000
END:DAYLIGHT
BEGIN:STANDARD
TZOFFSETFROM:+0200
TZOFFSETTO:+0100
TZNAME:CET
DTSTART:20231029T010000
END:STANDARD
END:VTIMEZONE
BEGIN:VEVENT
DTSTART;VALUE=DATE:20230928
DTEND;VALUE=DATE:20230930
DTSTAMP:20260423T113639
CREATED:20230908T145650Z
LAST-MODIFIED:20230908T145804Z
UID:5588-1695859200-1696031999@www.eindhovenhistorylab.nl
SUMMARY:CONFERENCE: Les historiographies nationales des techniques. Au cœur de l’épistémologie en histoire globale des techniques
DESCRIPTION:EHV’s Erik van der Vleuten will present the opening keynote. \nConference program link
URL:https://www.eindhovenhistorylab.nl/event/conference-les-historiographies-nationales-des-techniques-au-coeur-de-lepistemologie-en-histoire-globale-des-techniques/
END:VEVENT
END:VCALENDAR