BEGIN:VCALENDAR
VERSION:2.0
PRODID:-//Eindhoven History Lab - ECPv6.0.4//NONSGML v1.0//EN
CALSCALE:GREGORIAN
METHOD:PUBLISH
X-WR-CALNAME:Eindhoven History Lab
X-ORIGINAL-URL:https://www.eindhovenhistorylab.nl
X-WR-CALDESC:Events for Eindhoven History Lab
REFRESH-INTERVAL;VALUE=DURATION:PT1H
X-Robots-Tag:noindex
X-PUBLISHED-TTL:PT1H
BEGIN:VTIMEZONE
TZID:Europe/Amsterdam
BEGIN:DAYLIGHT
TZOFFSETFROM:+0100
TZOFFSETTO:+0200
TZNAME:CEST
DTSTART:20230326T010000
END:DAYLIGHT
BEGIN:STANDARD
TZOFFSETFROM:+0200
TZOFFSETTO:+0100
TZNAME:CET
DTSTART:20231029T010000
END:STANDARD
END:VTIMEZONE
BEGIN:VEVENT
DTSTART;TZID=Europe/Amsterdam:20230608T104500
DTEND;TZID=Europe/Amsterdam:20230608T123000
DTSTAMP:20260424T003211
CREATED:20230525T171451Z
LAST-MODIFIED:20230525T171646Z
UID:5544-1686221100-1686227400@www.eindhovenhistorylab.nl
SUMMARY:Seminar with Ginevra Sanvitale
DESCRIPTION:From chicken fiat to chicken nuggets. Notes on gender\, technology and poultry processing in 20th century Italy (1920s-1990s) \nResearch Seminar – Eindhoven History Lab (Atlas 9320) \nJune 8th 2023\, 10:45-12:00 \n  \n10:45-10:50 \nIntroduction. Erik van der Vleuten\, Eindhoven History Lab \n  \n10:50-11:10 \nFrom chicken fiat to chicken nuggets. Notes on gender\, technology and poultry processing in 20th century Italy (1920s-1990s). Ginevra Sanvitale\, Postdoctoral Research Fellow\, Trinity Centre for Digital Humanities\, Trinity College Dublin \n  \nPoultry meat is one of the main sources of animal protein in human diets worldwide. Historically\, female labor has been crucial in poultry farming and processing. I discuss the interconnected histories of women and poultry in 20th century Italy\, focusing on the technologies which enabled or facilitated this relationship\, from the “rationalisation” of rural poultry farming under the fascist regime to the rise of a large scale poultry processing industry from the 1960s onward. I look at these technology-enabled encounters between women and chickens from three intersecting domains of feminist food studies: the material\, the socio-cultural\, and the corporeal (Allen and Sachs 2007). \n  \n11:10-12:00 \nFollow the chicken. Looking for non-human animals in the history of technology. Informal discussion. \n  \nSeveral non-human animals inhabit the history of technology. Some have a destructive effect on technology\, such as the metaphorical and actual bugs altering the functioning of computer systems (Kidwell 1998). Other were the reason why technologies were developed or modified: a plough can be dragged by a human or by a horse\, but it will have a different design\, depending on the animal operating it. Non-human animals have also been equated with technologies. For example\, the modern broiler chicken can be envisioned as a “protein machine” designed to transform vegetable calories into animal proteins (Galusky 2022)\, while pigs and sheep under fascist regimes were fundamental “technoscientific organisms” for the maintenance of political power (Saraiva 2016). Mutual dependency relationships between human and non-human animals\, and the techno-scientific advancements facilitating them\, often imply significant transformations of ecosystems\, notably in global agri-food system: intensive animal farming histories are deeply interconnected with soy production histories (van der Vleuten and de Hoop 2022). In other words -or better\, in Donna Haraway’s words: “follow the chicken and find the world”. In this informal discussion we seek to find the many words which have been created\, or could be created\, by past\, present and future interactions between technologies and animals (human and not). Which non-human animals are most impacted by which technologies? How is their perception of these technologies different from that of humans\, e.g. in spatial and temporal terms? Do non-human animals create technologies\, or is it a prerogative of humans? If they do\, what can humans learn from other animals’ technological systems and processes? \n  \n12:00-12:15 \nHistory Lab planning meeting \n  \n  \nBibliography \n  \n\nAllen\, Patricia\, and Carolyn Sachs. ‘Women and Food Chains: The Gendered Politics of Food’. In Taking Food Public: Redefining Foodways in a Changing World\, 23–40. Taylor & Francis\, 2007.\nvan der Vleuten\, Erik\, and Evelien de Hoop. “Crisis narratives from the Dutch Soyacene: Regional sustainability hi/stories at sites of soy consumption.” In The Age of the Soybean.: An Environmental History of Soy During the Great Acceleration\, pp. 265-288. White Horse Press\, 2022.\nGalusky\, Wyatt. Protein Machines\, Technology\, and the Nature of the Future. Springer Nature\, 2022.\nHaraway\, Donna. When species meet. University of Minnesota Press\, 2008.\nKidwell\, Peggy Aldrich. “Stalking the elusive computer bug.” IEEE Annals of the History of Computing 20\, no. 4 (1998): 5-9.\nSaraiva\, Tiago. Fascist Pigs: Technoscientific Organisms and the History of Fascism. MIT Press\, 2016.
URL:https://www.eindhovenhistorylab.nl/event/seminar-with-ginevra-sanvitale/
LOCATION:History lab Atlas 9320
END:VEVENT
END:VCALENDAR