BEGIN:VCALENDAR
VERSION:2.0
PRODID:-//Eindhoven History Lab - ECPv6.0.4//NONSGML v1.0//EN
CALSCALE:GREGORIAN
METHOD:PUBLISH
X-ORIGINAL-URL:https://www.eindhovenhistorylab.nl
X-WR-CALDESC:Events for Eindhoven History Lab
REFRESH-INTERVAL;VALUE=DURATION:PT1H
X-Robots-Tag:noindex
X-PUBLISHED-TTL:PT1H
BEGIN:VTIMEZONE
TZID:UTC
BEGIN:STANDARD
TZOFFSETFROM:+0000
TZOFFSETTO:+0000
TZNAME:UTC
DTSTART:20220101T000000
END:STANDARD
END:VTIMEZONE
BEGIN:VEVENT
DTSTART;TZID=UTC:20221019T160000
DTEND;TZID=UTC:20221019T180000
DTSTAMP:20260424T140046
CREATED:20221007T130916Z
LAST-MODIFIED:20221007T130924Z
UID:5377-1666195200-1666202400@www.eindhovenhistorylab.nl
SUMMARY:PhD defense Ginevra Sanvitale
DESCRIPTION:On 19 October\, Ginevra Sanvitale will defend her PhD thesis Technopolitical Resonance: Emotions\, computers and socialism in Cold War Italy (1965-1990). \nSee the TU/e page (incl. a link to the thesis) here.
URL:https://www.eindhovenhistorylab.nl/event/phd-defense-ginevra-sanvitale/
END:VEVENT
END:VCALENDAR