BEGIN:VCALENDAR
VERSION:2.0
PRODID:-//Eindhoven History Lab - ECPv6.0.4//NONSGML v1.0//EN
CALSCALE:GREGORIAN
METHOD:PUBLISH
X-WR-CALNAME:Eindhoven History Lab
X-ORIGINAL-URL:https://www.eindhovenhistorylab.nl
X-WR-CALDESC:Events for Eindhoven History Lab
REFRESH-INTERVAL;VALUE=DURATION:PT1H
X-Robots-Tag:noindex
X-PUBLISHED-TTL:PT1H
BEGIN:VTIMEZONE
TZID:UTC
BEGIN:STANDARD
TZOFFSETFROM:+0000
TZOFFSETTO:+0000
TZNAME:UTC
DTSTART:20220101T000000
END:STANDARD
END:VTIMEZONE
BEGIN:VEVENT
DTSTART;VALUE=DATE:20220914
DTEND;VALUE=DATE:20220917
DTSTAMP:20260424T153239
CREATED:20220705T131928Z
LAST-MODIFIED:20220718T112124Z
UID:5301-1663113600-1663372799@www.eindhovenhistorylab.nl
SUMMARY:WORKSHOP Alternative engagements with the soil: ways of knowing\, being and doing in Mozambique (Maputo)
DESCRIPTION: 
URL:https://www.eindhovenhistorylab.nl/event/workshop-alternative-engagements-with-the-soil-ways-of-knowing-being-and-doing-in-mozambique/
LOCATION:Maputo University\, Mozambique
END:VEVENT
END:VCALENDAR