BEGIN:VCALENDAR
VERSION:2.0
PRODID:-//Eindhoven History Lab - ECPv6.0.4//NONSGML v1.0//EN
CALSCALE:GREGORIAN
METHOD:PUBLISH
X-WR-CALNAME:Eindhoven History Lab
X-ORIGINAL-URL:https://www.eindhovenhistorylab.nl
X-WR-CALDESC:Events for Eindhoven History Lab
REFRESH-INTERVAL;VALUE=DURATION:PT1H
X-Robots-Tag:noindex
X-PUBLISHED-TTL:PT1H
BEGIN:VTIMEZONE
TZID:Europe/Amsterdam
BEGIN:DAYLIGHT
TZOFFSETFROM:+0100
TZOFFSETTO:+0200
TZNAME:CEST
DTSTART:20220327T010000
END:DAYLIGHT
BEGIN:STANDARD
TZOFFSETFROM:+0200
TZOFFSETTO:+0100
TZNAME:CET
DTSTART:20221030T010000
END:STANDARD
END:VTIMEZONE
BEGIN:VEVENT
DTSTART;VALUE=DATE:20220629
DTEND;VALUE=DATE:20220702
DTSTAMP:20260424T184446
CREATED:20210818T140116Z
LAST-MODIFIED:20210818T140427Z
UID:4705-1656460800-1656719999@www.eindhovenhistorylab.nl
SUMMARY:10th Tensions of Europe Conference: Technology\, Environment and Resources
DESCRIPTION:The 10th Tensions of Europe Conference will have as its main theme the history of interactions between technology\, environment and resources. It aims at exploring connections of factors such as scientific exploration\, technology development\, resource exploitation and use\, resource markets and environmental change by investigating both scientific and technological practices as well as imaginations\, representations and discourses related to natural resources and environmental issues. The conference puts particular emphasis on processes of circulation and appropriation of knowledge\, ideas\, representations\, technologies and resources across space and time in all historical periods and on local\, regional and global scales. \nThe Tensions of Europe conference is organised biennially by an interdisciplinary community of scholars who study the shaping of Europe through the lens of technology and material culture. We welcome fruitful interactions between historians of technology and scholars from all other fields of the humanities and social sciences (https://www.tensionsofeurope.eu). The conference is based on the transnational research network Challenging Europe: Technology\, Environment and the Quest for Resource Security (EurReS\, coordinated at Aarhus University) and the transnational research program Global Resources & Sustainability (GREASE\, coordinated by Eindhoven University of Technology). Both are part of the Tensions of Europe program “Technology & Societal Challenges\, ca. 1800-2050”.
URL:https://www.eindhovenhistorylab.nl/event/10th-tensions-of-europe-conference-technology-environment-and-resources/
LOCATION:Aarhus University
END:VEVENT
END:VCALENDAR