BEGIN:VCALENDAR
VERSION:2.0
PRODID:-//Eindhoven History Lab - ECPv6.0.4//NONSGML v1.0//EN
CALSCALE:GREGORIAN
METHOD:PUBLISH
X-WR-CALNAME:Eindhoven History Lab
X-ORIGINAL-URL:https://www.eindhovenhistorylab.nl
X-WR-CALDESC:Events for Eindhoven History Lab
REFRESH-INTERVAL;VALUE=DURATION:PT1H
X-Robots-Tag:noindex
X-PUBLISHED-TTL:PT1H
BEGIN:VTIMEZONE
TZID:Europe/Amsterdam
BEGIN:DAYLIGHT
TZOFFSETFROM:+0100
TZOFFSETTO:+0200
TZNAME:CEST
DTSTART:20200329T010000
END:DAYLIGHT
BEGIN:STANDARD
TZOFFSETFROM:+0200
TZOFFSETTO:+0100
TZNAME:CET
DTSTART:20201025T010000
END:STANDARD
BEGIN:DAYLIGHT
TZOFFSETFROM:+0100
TZOFFSETTO:+0200
TZNAME:CEST
DTSTART:20210328T010000
END:DAYLIGHT
BEGIN:STANDARD
TZOFFSETFROM:+0200
TZOFFSETTO:+0100
TZNAME:CET
DTSTART:20211031T010000
END:STANDARD
END:VTIMEZONE
BEGIN:VEVENT
DTSTART;VALUE=DATE:20210628
DTEND;VALUE=DATE:20210703
DTSTAMP:20260422T031517
CREATED:20210108T131941Z
LAST-MODIFIED:20210510T180809Z
UID:4581-1624838400-1625270399@www.eindhovenhistorylab.nl
SUMMARY:Tensions of Europe Digital Workshop Festival
DESCRIPTION:The ToE network plans a digital workshop Festival (28 June-2 July 2021)\, filling the gap caused by postponing the 10th biennial ToE conference to 6-8 July 2022. \nTo the conference page\n \nJoin A Unique Series of Online Events from the 28th of June to the 2nd of July 2021: \nThe ToE network plans a digital workshop Festival (28 June-2 July 2021)\, filling the gap caused by postponing the 10th biennial ToE conference to 6-8 July 2022. The organization will be bottom-up; if you would like to plan\, or are already planning\, relevant international ToE-related events around that time\, please consider connecting them to this initiative! Please note that you are free to decide the date and slot\, theme within Tensions’ scope\, format\, participants\, preferred platform in case you have one. For the sake of coherence\, connections between and promotion of all initiatives\, the management committee will act as programmer of this decentralized festival. We will supply a web environment and promotion of these bottom-up initiatives which will make up the 2021 Tensions of Europe digital workshop Festival. \nContact: Foundation for the History of Technology (SHT)\nOrganizers: Tensions of Europe network (you\, if you like!)\nDeadline: 31st of January for open session proposals; 28th of February for fully-fledged events\nDate: 28 June – 2 July 2021 \nFee: symbolic ;)\nPlace: Online \nMore information
URL:https://www.eindhovenhistorylab.nl/event/tensions-of-europe-digital-workshop-festival/
END:VEVENT
BEGIN:VEVENT
DTSTART;TZID=Europe/Amsterdam:20201119T100000
DTEND;TZID=Europe/Amsterdam:20201119T163000
DTSTAMP:20260422T031517
CREATED:20201012T103618Z
LAST-MODIFIED:20201012T103618Z
UID:4243-1605780000-1605803400@www.eindhovenhistorylab.nl
SUMMARY:KNHG Digital Congress
DESCRIPTION:In close collaboration with the Environmental Humanities Center at the VU University Amsterdam\, KNHG is organizing a digital conference entitled ‘More than Human Past: Historians\, Eco-history and Environmental Humanities.’ Our researchers Erik van der Vleuten and Frank Veraart make a contribution on this event.\n\nRead more in Dutch
URL:https://www.eindhovenhistorylab.nl/event/knhg-digital-congress/
END:VEVENT
BEGIN:VEVENT
DTSTART;TZID=Europe/Amsterdam:20201110T080000
DTEND;TZID=Europe/Amsterdam:20201113T170000
DTSTAMP:20260422T031517
CREATED:20201026T144745Z
LAST-MODIFIED:20201026T150717Z
UID:4345-1604995200-1605286800@www.eindhovenhistorylab.nl
SUMMARY:International workshop: Social-technical-environmental entanglements in the postcolonial Anthropocene
DESCRIPTION:This workshop is a follow-up to our 2019 workshop Resources\, Infrastructures and the Anthropocene: global North-South dialogues“\, in the context of our Global Sustainability history project. An international author team will meet to discuss draft versions for a special journal issue on the postcolonial Anthropocene.\n \nOrganizers: Evelien de Hoop (VU Amsterdam)\, Aarthi Sridhar (Dakshin Foundation/ University of Amsterdam)\, Claiton Marcio da Silva (Universidade Federal da Fronteira Sul)\, Erik van der Vleuten (Eindhoven History Lab).
URL:https://www.eindhovenhistorylab.nl/event/international-workshop-social-technical-environmental-entanglements-in-the-postcolonial-anthropocene/
LOCATION:digital workshop
END:VEVENT
BEGIN:VEVENT
DTSTART;VALUE=DATE:20201008
DTEND;VALUE=DATE:20201012
DTSTAMP:20260422T031517
CREATED:20200912T115922Z
LAST-MODIFIED:20201012T120218Z
UID:4249-1602115200-1602460799@www.eindhovenhistorylab.nl
SUMMARY:SHOT Virtual Forum
DESCRIPTION:Because of COVID-19\, we are unable to meet as planned in person in New Orleans in 2020. Instead of our physical conference SHOT and HSS are now organizing a virtual conference that will take place 8-11 October. \nMore info
URL:https://www.eindhovenhistorylab.nl/event/shot-virtual-forum/
END:VEVENT
BEGIN:VEVENT
DTSTART;VALUE=DATE:20200715
DTEND;VALUE=DATE:20200718
DTSTAMP:20260422T031517
CREATED:20200701T101713Z
LAST-MODIFIED:20201208T112529Z
UID:4518-1594771200-1595030399@www.eindhovenhistorylab.nl
SUMMARY:International Committee for the History of Technology ICOHTEC 2020 congress: A History of Technology for an Age of Crisis
DESCRIPTION:Due to the Covid-19 pandemic the 47th Annual Meeting of ICOHTEC in Eindhoven took place virtually from 15-17 July 2020. The program offered an innovative mix of traditional and new session formats\, plenary sessions\, round tables\, and social events. All contributions addressed the symposium theme ‘A History of Technology for an Age of Crisis’. \nWe thank all participants for their contributions! On the password protected part of this website you will be able to watch the recorded plenary and parallel sessions until 9 August 2020. \nSławomir Łotysz\, President of ICOHTEC\nStefan Poser\, Secretary General of ICOHTEC\nErik van der Vleuten\, Jan Korsten\, and Angelique Brons-Bakker\, Local Organizing Committee Eindhoven \n  \nConference website: https://icohtec2020eindhoven.org/
URL:https://www.eindhovenhistorylab.nl/event/international-committee-for-the-history-of-technology-icohtec-2020-congress-a-history-of-technology-for-an-age-of-crisis/
LOCATION:digital/ Eindhoven
END:VEVENT
END:VCALENDAR