BEGIN:VCALENDAR
VERSION:2.0
PRODID:-//Eindhoven History Lab - ECPv6.0.4//NONSGML v1.0//EN
CALSCALE:GREGORIAN
METHOD:PUBLISH
X-WR-CALNAME:Eindhoven History Lab
X-ORIGINAL-URL:https://www.eindhovenhistorylab.nl
X-WR-CALDESC:Events for Eindhoven History Lab
REFRESH-INTERVAL;VALUE=DURATION:PT1H
X-Robots-Tag:noindex
X-PUBLISHED-TTL:PT1H
BEGIN:VTIMEZONE
TZID:Europe/Amsterdam
BEGIN:DAYLIGHT
TZOFFSETFROM:+0100
TZOFFSETTO:+0200
TZNAME:CEST
DTSTART:20240331T010000
END:DAYLIGHT
BEGIN:STANDARD
TZOFFSETFROM:+0200
TZOFFSETTO:+0100
TZNAME:CET
DTSTART:20241027T010000
END:STANDARD
END:VTIMEZONE
BEGIN:VEVENT
DTSTART;VALUE=DATE:20240716
DTEND;VALUE=DATE:20240720
DTSTAMP:20260421T210843
CREATED:20231031T091138Z
LAST-MODIFIED:20231031T091138Z
UID:5601-1721088000-1721433599@www.eindhovenhistorylab.nl
SUMMARY:Joint meeting EASST-4S 2024
DESCRIPTION:The 11th quadrennial joint meeting of the European Association for the Study of Science and Technology (EASST) and the Society for Social Studies of Science (4S) takes place in the Netherlands. It is  is hosted by the Athena Institute at Vrije Universiteit Amsterdam (VU)\, with witch the EHL collaborates e.g. in the Soy Stories project.  STS research at Athena aims to contribute to transformative change through involvements in addressing complex societal challenges and by studying and designing science-society interfaces. \nConference website
URL:https://www.eindhovenhistorylab.nl/event/joint-meeting-easst-4s-2024/
LOCATION:Amsterdam
END:VEVENT
END:VCALENDAR