BEGIN:VCALENDAR
VERSION:2.0
PRODID:-//Eindhoven History Lab - ECPv6.0.4//NONSGML v1.0//EN
CALSCALE:GREGORIAN
METHOD:PUBLISH
X-ORIGINAL-URL:https://www.eindhovenhistorylab.nl
X-WR-CALDESC:Events for Eindhoven History Lab
REFRESH-INTERVAL;VALUE=DURATION:PT1H
X-Robots-Tag:noindex
X-PUBLISHED-TTL:PT1H
BEGIN:VTIMEZONE
TZID:Europe/Amsterdam
BEGIN:DAYLIGHT
TZOFFSETFROM:+0100
TZOFFSETTO:+0200
TZNAME:CEST
DTSTART:20230326T010000
END:DAYLIGHT
BEGIN:STANDARD
TZOFFSETFROM:+0200
TZOFFSETTO:+0100
TZNAME:CET
DTSTART:20231029T010000
END:STANDARD
END:VTIMEZONE
BEGIN:VEVENT
DTSTART;VALUE=DATE:20230814
DTEND;VALUE=DATE:20230819
DTSTAMP:20260423T201723
CREATED:20221130T161603Z
LAST-MODIFIED:20221130T161603Z
UID:5443-1691971200-1692403199@www.eindhovenhistorylab.nl
SUMMARY:ICOHTEC 50th Conference in Estonia\, August 14-18\, 2023
DESCRIPTION:ICOHTEC’s 50th Conference will be organized in Estonia at August 14-18\, 2023 \nTopic: INTERDEPENDENCIES. FROM LOCAL MICROSTORIES TO GLOBAL PERSPECTIVES ON THE\nHISTORY OF TECHNOLOGY \nCall for Papers (deadline for submissions is 15th January 2023) \nMore information: Please check the ICOHTEC site
URL:https://www.eindhovenhistorylab.nl/event/icohtec-50th-conference-in-estonia-august-14-18-2023/
END:VEVENT
END:VCALENDAR