BEGIN:VCALENDAR
VERSION:2.0
PRODID:-//Eindhoven History Lab - ECPv6.0.4//NONSGML v1.0//EN
CALSCALE:GREGORIAN
METHOD:PUBLISH
X-ORIGINAL-URL:https://www.eindhovenhistorylab.nl
X-WR-CALDESC:Events for Eindhoven History Lab
REFRESH-INTERVAL;VALUE=DURATION:PT1H
X-Robots-Tag:noindex
X-PUBLISHED-TTL:PT1H
BEGIN:VTIMEZONE
TZID:Europe/Amsterdam
BEGIN:DAYLIGHT
TZOFFSETFROM:+0100
TZOFFSETTO:+0200
TZNAME:CEST
DTSTART:20230326T010000
END:DAYLIGHT
BEGIN:STANDARD
TZOFFSETFROM:+0200
TZOFFSETTO:+0100
TZNAME:CET
DTSTART:20231029T010000
END:STANDARD
END:VTIMEZONE
BEGIN:VEVENT
DTSTART;VALUE=DATE:20230119
DTEND;VALUE=DATE:20230120
DTSTAMP:20260424T104624
CREATED:20221123T194416Z
LAST-MODIFIED:20221212T123951Z
UID:5432-1674086400-1674172799@www.eindhovenhistorylab.nl
SUMMARY:WORKSHOP: Global sustainability pasts/ presents/ futures II
DESCRIPTION:The Foundation SHT & the Eindhoven History lab organize the second workshop on Global sustainability pasts/ presents/ futures at 19 January 2023. Program: TBA
URL:https://www.eindhovenhistorylab.nl/event/workshop-global-sustainability-pasts-presents-futures-ii/
END:VEVENT
END:VCALENDAR