BEGIN:VCALENDAR
VERSION:2.0
PRODID:-//Eindhoven History Lab - ECPv6.0.4//NONSGML v1.0//EN
CALSCALE:GREGORIAN
METHOD:PUBLISH
X-ORIGINAL-URL:https://www.eindhovenhistorylab.nl
X-WR-CALDESC:Events for Eindhoven History Lab
REFRESH-INTERVAL;VALUE=DURATION:PT1H
X-Robots-Tag:noindex
X-PUBLISHED-TTL:PT1H
BEGIN:VTIMEZONE
TZID:Europe/Amsterdam
BEGIN:DAYLIGHT
TZOFFSETFROM:+0100
TZOFFSETTO:+0200
TZNAME:CEST
DTSTART:20220327T010000
END:DAYLIGHT
BEGIN:STANDARD
TZOFFSETFROM:+0200
TZOFFSETTO:+0100
TZNAME:CET
DTSTART:20221030T010000
END:STANDARD
END:VTIMEZONE
BEGIN:VEVENT
DTSTART;VALUE=DATE:20221110
DTEND;VALUE=DATE:20221114
DTSTAMP:20260424T135956
CREATED:20220401T112734Z
LAST-MODIFIED:20220718T112208Z
UID:5169-1668038400-1668383999@www.eindhovenhistorylab.nl
SUMMARY:SHOT ANNUAL MEETING: Empire\, Globalization\, and Technological Change (New Orleans)
DESCRIPTION:Empire\, Globalization\, and Technological Change\nSHOT Annual Meeting New Orleans\n10-13 November 2022\n\n2022 SHOT Annual Meeting\, 10-13 November\, New Orleans (Louisiana)
URL:https://www.eindhovenhistorylab.nl/event/shot-annual-meeting-new-orleans/
END:VEVENT
END:VCALENDAR