BEGIN:VCALENDAR
VERSION:2.0
PRODID:-//Eindhoven History Lab - ECPv6.0.4//NONSGML v1.0//EN
CALSCALE:GREGORIAN
METHOD:PUBLISH
X-ORIGINAL-URL:https://www.eindhovenhistorylab.nl
X-WR-CALDESC:Events for Eindhoven History Lab
REFRESH-INTERVAL;VALUE=DURATION:PT1H
X-Robots-Tag:noindex
X-PUBLISHED-TTL:PT1H
BEGIN:VTIMEZONE
TZID:Europe/Amsterdam
BEGIN:DAYLIGHT
TZOFFSETFROM:+0100
TZOFFSETTO:+0200
TZNAME:CEST
DTSTART:20220327T010000
END:DAYLIGHT
BEGIN:STANDARD
TZOFFSETFROM:+0200
TZOFFSETTO:+0100
TZNAME:CET
DTSTART:20221030T010000
END:STANDARD
END:VTIMEZONE
BEGIN:VEVENT
DTSTART;VALUE=DATE:20220617
DTEND;VALUE=DATE:20220619
DTSTAMP:20260424T221620
CREATED:20210104T170841Z
LAST-MODIFIED:20220411T091946Z
UID:4552-1655424000-1655596799@www.eindhovenhistorylab.nl
SUMMARY:Gewina Woudschoten Conference on Contested Expertise: Trust in Science and Technology
DESCRIPTION:On 17-18 JUNE 2022  Gewina\, the Belgian-Dutch Society for the History of Science and Universities\, will hold its 9th biannual meeting in the Woudschoten Hotel & Conference Centre (Zeist). The theme of this year’s conference is: Contested Expertise: Trust in Science and Technology. EHL’s Erik van der Vleuten is invited as a keynoter. \nThis two-day conference brings together historians of science\, humanities\, medicine\, universities and technology; and all those from other fields with an interest in the history of knowledge.
URL:https://www.eindhovenhistorylab.nl/event/9th-gewina-woudschoten-conference-contested-expertise-trust-in-science-and-technology/
END:VEVENT
END:VCALENDAR