BEGIN:VCALENDAR
VERSION:2.0
PRODID:-//Eindhoven History Lab - ECPv6.0.4//NONSGML v1.0//EN
CALSCALE:GREGORIAN
METHOD:PUBLISH
X-WR-CALNAME:Eindhoven History Lab
X-ORIGINAL-URL:https://www.eindhovenhistorylab.nl
X-WR-CALDESC:Events for Eindhoven History Lab
REFRESH-INTERVAL;VALUE=DURATION:PT1H
X-Robots-Tag:noindex
X-PUBLISHED-TTL:PT1H
BEGIN:VTIMEZONE
TZID:Europe/Amsterdam
BEGIN:DAYLIGHT
TZOFFSETFROM:+0100
TZOFFSETTO:+0200
TZNAME:CEST
DTSTART:20220327T010000
END:DAYLIGHT
BEGIN:STANDARD
TZOFFSETFROM:+0200
TZOFFSETTO:+0100
TZNAME:CET
DTSTART:20221030T010000
END:STANDARD
END:VTIMEZONE
BEGIN:VEVENT
DTSTART;TZID=Europe/Amsterdam:20220406T000000
DTEND;TZID=Europe/Amsterdam:20220615T000000
DTSTAMP:20260424T221423
CREATED:20220330T072945Z
LAST-MODIFIED:20220330T084357Z
UID:5134-1649203200-1655251200@www.eindhovenhistorylab.nl
SUMMARY:Online seminar series: Global Matters III: Non-Eurocentric Histories and Futures of Technology and Sustainability
DESCRIPTION:On Wednesday April 6\, we kick off a short series of online discussion seminar series on Global Matters III: Non-Eurocentric Histories and Futures of Technology and Sustainability. The series will run from April to June 2022\, leading up to our stringed sessions at the 10th Tensions of Europe Conference in Aarhus. \nAnimesh Chatterjee (TU Darmstadt)\, Jonas van der Straeten\, Erik van der Vleuten (organizers) \n  \n 
URL:https://www.eindhovenhistorylab.nl/event/online-seminar-series-global-matters-iii-non-eurocentric-histories-and-futures-of-technology-and-sustainability/
END:VEVENT
END:VCALENDAR