BEGIN:VCALENDAR
VERSION:2.0
PRODID:-//Eindhoven History Lab - ECPv6.0.4//NONSGML v1.0//EN
CALSCALE:GREGORIAN
METHOD:PUBLISH
X-ORIGINAL-URL:https://www.eindhovenhistorylab.nl
X-WR-CALDESC:Events for Eindhoven History Lab
REFRESH-INTERVAL;VALUE=DURATION:PT1H
X-Robots-Tag:noindex
X-PUBLISHED-TTL:PT1H
BEGIN:VTIMEZONE
TZID:Europe/Amsterdam
BEGIN:DAYLIGHT
TZOFFSETFROM:+0100
TZOFFSETTO:+0200
TZNAME:CEST
DTSTART:20210328T010000
END:DAYLIGHT
BEGIN:STANDARD
TZOFFSETFROM:+0200
TZOFFSETTO:+0100
TZNAME:CET
DTSTART:20211031T010000
END:STANDARD
END:VTIMEZONE
BEGIN:VEVENT
DTSTART;VALUE=DATE:20210628
DTEND;VALUE=DATE:20210703
DTSTAMP:20260425T165206
CREATED:20210108T131941Z
LAST-MODIFIED:20210510T180809Z
UID:4581-1624838400-1625270399@www.eindhovenhistorylab.nl
SUMMARY:Tensions of Europe Digital Workshop Festival
DESCRIPTION:The ToE network plans a digital workshop Festival (28 June-2 July 2021)\, filling the gap caused by postponing the 10th biennial ToE conference to 6-8 July 2022. \nTo the conference page\n \nJoin A Unique Series of Online Events from the 28th of June to the 2nd of July 2021: \nThe ToE network plans a digital workshop Festival (28 June-2 July 2021)\, filling the gap caused by postponing the 10th biennial ToE conference to 6-8 July 2022. The organization will be bottom-up; if you would like to plan\, or are already planning\, relevant international ToE-related events around that time\, please consider connecting them to this initiative! Please note that you are free to decide the date and slot\, theme within Tensions’ scope\, format\, participants\, preferred platform in case you have one. For the sake of coherence\, connections between and promotion of all initiatives\, the management committee will act as programmer of this decentralized festival. We will supply a web environment and promotion of these bottom-up initiatives which will make up the 2021 Tensions of Europe digital workshop Festival. \nContact: Foundation for the History of Technology (SHT)\nOrganizers: Tensions of Europe network (you\, if you like!)\nDeadline: 31st of January for open session proposals; 28th of February for fully-fledged events\nDate: 28 June – 2 July 2021 \nFee: symbolic ;)\nPlace: Online \nMore information
URL:https://www.eindhovenhistorylab.nl/event/tensions-of-europe-digital-workshop-festival/
END:VEVENT
END:VCALENDAR